BEGIN:VCALENDAR
VERSION:2.0
PRODID:-//Redhouse Arts Center - ECPv6.15.20//NONSGML v1.0//EN
CALSCALE:GREGORIAN
METHOD:PUBLISH
X-WR-CALNAME:Redhouse Arts Center
X-ORIGINAL-URL:https://theredhouse.org
X-WR-CALDESC:Events for Redhouse Arts Center
REFRESH-INTERVAL;VALUE=DURATION:PT1H
X-Robots-Tag:noindex
X-PUBLISHED-TTL:PT1H
BEGIN:VTIMEZONE
TZID:America/New_York
BEGIN:DAYLIGHT
TZOFFSETFROM:-0500
TZOFFSETTO:-0400
TZNAME:EDT
DTSTART:20220313T070000
END:DAYLIGHT
BEGIN:STANDARD
TZOFFSETFROM:-0400
TZOFFSETTO:-0500
TZNAME:EST
DTSTART:20221106T060000
END:STANDARD
BEGIN:DAYLIGHT
TZOFFSETFROM:-0500
TZOFFSETTO:-0400
TZNAME:EDT
DTSTART:20230312T070000
END:DAYLIGHT
BEGIN:STANDARD
TZOFFSETFROM:-0400
TZOFFSETTO:-0500
TZNAME:EST
DTSTART:20231105T060000
END:STANDARD
BEGIN:DAYLIGHT
TZOFFSETFROM:-0500
TZOFFSETTO:-0400
TZNAME:EDT
DTSTART:20240310T070000
END:DAYLIGHT
BEGIN:STANDARD
TZOFFSETFROM:-0400
TZOFFSETTO:-0500
TZNAME:EST
DTSTART:20241103T060000
END:STANDARD
BEGIN:DAYLIGHT
TZOFFSETFROM:-0500
TZOFFSETTO:-0400
TZNAME:EDT
DTSTART:20250309T070000
END:DAYLIGHT
BEGIN:STANDARD
TZOFFSETFROM:-0400
TZOFFSETTO:-0500
TZNAME:EST
DTSTART:20251102T060000
END:STANDARD
BEGIN:DAYLIGHT
TZOFFSETFROM:-0500
TZOFFSETTO:-0400
TZNAME:EDT
DTSTART:20260308T070000
END:DAYLIGHT
BEGIN:STANDARD
TZOFFSETFROM:-0400
TZOFFSETTO:-0500
TZNAME:EST
DTSTART:20261101T060000
END:STANDARD
BEGIN:DAYLIGHT
TZOFFSETFROM:-0500
TZOFFSETTO:-0400
TZNAME:EDT
DTSTART:20270314T070000
END:DAYLIGHT
BEGIN:STANDARD
TZOFFSETFROM:-0400
TZOFFSETTO:-0500
TZNAME:EST
DTSTART:20271107T060000
END:STANDARD
END:VTIMEZONE
BEGIN:VEVENT
DTSTART;VALUE=DATE:20260330
DTEND;VALUE=DATE:20260404
DTSTAMP:20260421T092558
CREATED:20241029T195519Z
LAST-MODIFIED:20260115T210106Z
UID:1009-1774828800-1775260799@theredhouse.org
SUMMARY:Littles: April Break Camp
DESCRIPTION:March 30 – April 3\n9:00 AM – 5:00 PM\nAges 6-10\n$375 \nThis April break one week experience offers an opportunity for young performers to work together\, have fun\, and learn the foundations of theater all while creating their own work. Our incredibly talented and supportive staff give campers a chance to learn about stage presence\, creating characters\, movement\, puppetry\, dance\, and voice.  \nREGISTER
URL:https://theredhouse.org/event/littles-april-break-camp/
LOCATION:Redhouse Arts Center\, 400 S. Salina Street\, Syracuse\, NY\, 13202\, United States
CATEGORIES:April Break Camps
ATTACH;FMTTYPE=image/jpeg:https://theredhouse.org/wp-content/uploads/2024/10/75.jpg
ORGANIZER;CN="Redhouse Arts Center":MAILTO:info@theredhouse.org
END:VEVENT
BEGIN:VEVENT
DTSTART;VALUE=DATE:20260330
DTEND;VALUE=DATE:20260404
DTSTAMP:20260421T092558
CREATED:20241029T195128Z
LAST-MODIFIED:20260303T143155Z
UID:1006-1774828800-1775260799@theredhouse.org
SUMMARY:RESTAGED (Spring): IMAGINE
DESCRIPTION:March 30 – April 3\n9:00 AM – 5:00 PM\nAges 10-17\n$375 \nIn this one-week creation-focused academy\, young artists step into the role of full-fledged theater makers. Guided by professional directors\, designers\, and writers\, students will use Beatles songs as inspiration to write\, design\, produce and perform a brand new piece of theater with music \nREGISTER \nFor any questions please call the us at (315) 362-2785 or email us at info@theredhouse.org
URL:https://theredhouse.org/event/restaged-spring/
LOCATION:Redhouse Arts Center\, 400 S. Salina Street\, Syracuse\, NY\, 13202\, United States
CATEGORIES:April Break Camps,Camp
ATTACH;FMTTYPE=image/jpeg:https://theredhouse.org/wp-content/uploads/2024/10/76.jpg
END:VEVENT
BEGIN:VEVENT
DTSTART;TZID=America/New_York:20240422T090000
DTEND;TZID=America/New_York:20240426T170000
DTSTAMP:20260421T092558
CREATED:20230925T153036Z
LAST-MODIFIED:20230925T153516Z
UID:840-1713776400-1714150800@theredhouse.org
SUMMARY:April Break MASHUP
DESCRIPTION:Monday April 22 – Friday\, April 26\n9:00 AM – 5:00 PM\nPerformance on Friday at 4:00 PM\nAges 10-17\n$300 \nOne of our most popular camps is back for another year! Mashup is designed for beginners\, intermediate\, or advanced performers. With the guidance from our professional Teaching Artists\, students will create their own original performance showcase inspired by pop culture trends of the year! This camp will expose students to a little bit of everything: dance\, music\, acting\, writing\, and design. \nREGISTER HERE \nFor any questions please call the us at (315) 362-2785 or email us at info@theredhouse.org
URL:https://theredhouse.org/event/april-break-mashup/
LOCATION:Redhouse Arts Center\, 400 S. Salina Street\, Syracuse\, NY\, 13202\, United States
CATEGORIES:April Break Camps
ATTACH;FMTTYPE=image/png:https://theredhouse.org/wp-content/uploads/2023/09/APRIL-BREAK-AV.png
ORGANIZER;CN="Redhouse Arts Center":MAILTO:info@theredhouse.org
END:VEVENT
BEGIN:VEVENT
DTSTART;TZID=America/New_York:20240422T090000
DTEND;TZID=America/New_York:20240426T170000
DTSTAMP:20260421T092558
CREATED:20230925T152638Z
LAST-MODIFIED:20230925T152750Z
UID:837-1713776400-1714150800@theredhouse.org
SUMMARY:April Break Little Superstars
DESCRIPTION:Monday April 22 – Friday\, April 26\n9:00 AM – 5:00 PM\nPerformance on Friday at 4:00 PM\nAges 6-10\n$300 \nThis camp is designed for our little performers who are showing early interest in performance of any kind! Little ones will try their hand at a variety of arts activities with our professional teaching artists including singing\, dancing\, acting\, and crafts to inspire creativity and build stage comfortability. While at Redhouse they will get to experience performing on a professional stage while learning the ins and outs of a mini rehearsal process. \nREGISTER HERE \nFor any questions please call the us at (315) 362-2785 or email us at info@theredhouse.org
URL:https://theredhouse.org/event/april-break-little-superstars/
LOCATION:Redhouse Arts Center\, 400 S. Salina Street\, Syracuse\, NY\, 13202\, United States
CATEGORIES:April Break Camps
ATTACH;FMTTYPE=image/png:https://theredhouse.org/wp-content/uploads/2023/09/APRIL-BREAK-AV.png
ORGANIZER;CN="Redhouse Arts Center":MAILTO:info@theredhouse.org
END:VEVENT
BEGIN:VEVENT
DTSTART;TZID=America/New_York:20230403T090000
DTEND;TZID=America/New_York:20230407T170000
DTSTAMP:20260421T092558
CREATED:20230124T145651Z
LAST-MODIFIED:20230320T142359Z
UID:577-1680512400-1680886800@theredhouse.org
SUMMARY:Little Superstars at Redhouse
DESCRIPTION:Monday\, April 3 – Friday\, April 7\n9:00am – 5:00pm\nAges 6-10 \nThis camp is designed for our little performers who are showing early interest in performance of any kind! Little ones will try their hand at a variety of arts activities with our professional teaching artists including singing\, dancing\, acting\, and crafts to inspire creativity and build stage comfortability. While at Redhouse they will get to experience performing on a professional stage while learning the ins and outs of a mini rehearsal process. \nRegister Here
URL:https://theredhouse.org/event/little-superstars-at-redhouse/
LOCATION:Redhouse Arts Center\, 400 S. Salina Street\, Syracuse\, NY\, 13202\, United States
CATEGORIES:April Break Camps
ATTACH;FMTTYPE=image/jpeg:https://theredhouse.org/wp-content/uploads/2023/01/redEd.jpg
ORGANIZER;CN="Redhouse Arts Center":MAILTO:info@theredhouse.org
END:VEVENT
BEGIN:VEVENT
DTSTART;TZID=America/New_York:20230403T090000
DTEND;TZID=America/New_York:20230407T170000
DTSTAMP:20260421T092558
CREATED:20230124T144822Z
LAST-MODIFIED:20230320T142515Z
UID:575-1680512400-1680886800@theredhouse.org
SUMMARY:MASHUP
DESCRIPTION:Monday\, April 3 – Friday\, April 7\, 2023\n9:00 AM – 5:00 PM\nAges 10-17\nOne of our most popular camps is back for another year! Mashup is designed for beginners\, intermediate\, or advanced performers. With the guidance from our professional Teaching Artists\, students will create their own original performance showcase inspired by pop culture trends of the year! This camp will expose students to a little bit of everything: dance\, music\, acting\, writing\, and design. \nRegister Here
URL:https://theredhouse.org/event/mashup/
LOCATION:Redhouse Arts Center\, 400 S. Salina Street\, Syracuse\, NY\, 13202\, United States
CATEGORIES:April Break Camps
ATTACH;FMTTYPE=image/jpeg:https://theredhouse.org/wp-content/uploads/2023/01/redEd.jpg
ORGANIZER;CN="Redhouse Arts Center":MAILTO:info@theredhouse.org
END:VEVENT
END:VCALENDAR